Workbook

Sheet direct labour only
P1: relative | Q1: relative
B2: period 1 | N2: result | O2: result | P2: exchange | Q2: result
C3: input | K3: relative | L3: numerator | N3: in price | O3: per unit | P3: value of | Q3: per unit
B4: sector | C4: labour | D4: A | E4: B | F4: C | G4: D | H4: E | I4: output | K4: prices | L4: A | N4: =L4 -> A | O4: labour | P4: goods | Q4: labour
S5: EXPLANATION
B6: A | C6: 40 | I6: 4 | K6: 10 | L6: =K6/IF($L$4="A",$K$6,IF($L$4="B",$K$7,IF($L$4="C",$K$8,IF($L$4="D",$K$9,IF($L$4="E",$K$10,0))))) -> 1 | N6: =I6*L6*$C$20/$C$11 -> 4.3333333 | O6: =N6/C6 -> 0.10833333 | P6: =L6/$N$11 -> 0.057692308 | Q6: =O6/$O$11 -> 0.75
B7: B | C7: 30 | I7: 2 | K7: 20 | L7: =K7/IF($L$4="A",$K$6,IF($L$4="B",$K$7,IF($L$4="C",$K$8,IF($L$4="D",$K$9,IF($L$4="E",$K$10,0))))) -> 2 | N7: =I7*L7*$C$20/$C$11 -> 4.3333333 | O7: =N7/C7 -> 0.14444444 | P7: =L7/$N$11 -> 0.11538462 | Q7: =O7/$O$11 -> 1 | S7: instructions:
B8: C | C8: 30 | I8: 6 | K8: 10 | L8: =K8/IF($L$4="A",$K$6,IF($L$4="B",$K$7,IF($L$4="C",$K$8,IF($L$4="D",$K$9,IF($L$4="E",$K$10,0))))) -> 1 | N8: =I8*L8*$C$20/$C$11 -> 6.5 | O8: =N8/C8 -> 0.21666667 | P8: =L8/$N$11 -> 0.057692308 | Q8: =O8/$O$11 -> 1.5 | S8: you are free to change the values of the green marked cells
B9: D | C9: 10 | I9: 2 | K9: 5 | L9: =K9/IF($L$4="A",$K$6,IF($L$4="B",$K$7,IF($L$4="C",$K$8,IF($L$4="D",$K$9,IF($L$4="E",$K$10,0))))) -> 0.5 | N9: =I9*L9*$C$20/$C$11 -> 1.0833333 | O9: =N9/C9 -> 0.10833333 | P9: =L9/$N$11 -> 0.028846154 | Q9: =O9/$O$11 -> 0.75 | S9: these concern the input of labour, the output of commodities and their relative prices
B10: E | C10: 10 | I10: 2 | K10: 5 | L10: =K10/IF($L$4="A",$K$6,IF($L$4="B",$K$7,IF($L$4="C",$K$8,IF($L$4="D",$K$9,IF($L$4="E",$K$10,0))))) -> 0.5 | N10: =I10*L10*$C$20/$C$11 -> 1.0833333 | O10: =N10/C10 -> 0.10833333 | P10: =L10/$N$11 -> 0.028846154 | Q10: =O10/$O$11 -> 0.75 | S10: you may also choose the price of one commodity as numerator for all commodity prices
B11: totaal | C11: =SUM(C6:C10) -> 120 | N11: =SUM(N6:N10) -> 17.333333 | O11: =N11/C11 -> 0.14444444
S12: results:
B13: period 2 | S13: with direct use of labour only and
S14: irrespective the price of which commodity is chosen as numerator
B15: A | C15: 44 | I15: 5.5 | K15: 10 | L15: =K15/IF($L$4="A",$K$15,IF($L$4="B",$K$16,IF($L$4="C",$K$17,IF($L$4="D",$K$18,IF($L$4="E",$K$19,0))))) -> 1 | N15: =I15*L15 -> 5.5 | O15: =N15/C15 -> 0.125 | P15: =L15/$N$20 -> 0.042918455 | Q15: =O15/$O$20 -> 0.69742489 | S15: the twofold valuation method deterrmines the right technical change by changing labour inputs, outputs and prices
B16: B | C16: 33 | I16: 3.3 | K16: 30 | L16: =K16/IF($L$4="A",$K$15,IF($L$4="B",$K$16,IF($L$4="C",$K$17,IF($L$4="D",$K$18,IF($L$4="E",$K$19,0))))) -> 3 | N16: =I16*L16 -> 9.9 | O16: =N16/C16 -> 0.3 | P16: =L16/$N$20 -> 0.12875536 | Q16: =O16/$O$20 -> 1.6738197 | S16: regardless of the changes in the green cells the technical change rho remains fully in accordance with the directly derived rho
B17: C | C17: 33 | I17: 8.8 | K17: 5 | L17: =K17/IF($L$4="A",$K$15,IF($L$4="B",$K$16,IF($L$4="C",$K$17,IF($L$4="D",$K$18,IF($L$4="E",$K$19,0))))) -> 0.5 | N17: =I17*L17 -> 4.4 | O17: =N17/C17 -> 0.13333333 | P17: =L17/$N$20 -> 0.021459227 | Q17: =O17/$O$20 -> 0.74391989 | S17: if the total input of labour changes over time, the measurement of the technical change is automatically adjusted
B18: D | C18: 10 | I18: 2 | K18: 10 | L18: =K18/IF($L$4="A",$K$15,IF($L$4="B",$K$16,IF($L$4="C",$K$17,IF($L$4="D",$K$18,IF($L$4="E",$K$19,0))))) -> 1 | N18: =I18*L18 -> 2 | O18: =N18/C18 -> 0.2 | P18: =L18/$N$20 -> 0.042918455 | Q18: =O18/$O$20 -> 1.1158798 | S18: by a correction of the result of each sector in period 1 that equalizes total labour input in both periods
B19: E | C19: 10 | I19: 3 | K19: 5 | L19: =K19/IF($L$4="A",$K$15,IF($L$4="B",$K$16,IF($L$4="C",$K$17,IF($L$4="D",$K$18,IF($L$4="E",$K$19,0))))) -> 0.5 | N19: =I19*L19 -> 1.5 | O19: =N19/C19 -> 0.15 | P19: =L19/$N$20 -> 0.021459227 | Q19: =O19/$O$20 -> 0.83690987
B20: totaal | C20: =SUM(C15:C19) -> 130 | N20: =SUM(N15:N19) -> 23.3 | O20: =N20/C20 -> 0.17923077 | S20: restrictions:
S21: output and prices of each sector must be positive
B22: twofold valuation from period 1 to period 2
B23: period 1
B24: A | D24: 1 | E24: 0 | F24: 0 | G24: 0 | H24: 0 | L24: =P6/Q6 -> 0.076923077 | O24: =L24*D24 -> 0.076923077
B25: B | D25: 0 | E25: 1 | F25: 0 | G25: 0 | H25: 0 | L25: =P7/Q7 -> 0.11538462 | O25: =L25*E25 -> 0.11538462
B26: C | D26: 0 | E26: 0 | F26: 1 | G26: 0 | H26: 0 | L26: =P8/Q8 -> 0.038461538 | O26: =L26*F26 -> 0.038461538
B27: D | D27: 0 | E27: 0 | F27: 0 | G27: 1 | H27: 0 | L27: =P9/Q9 -> 0.038461538 | O27: =L27*G27 -> 0.038461538 | S27: rho | V27: Index of labour worked up in commodities
B28: E | D28: 0 | E28: 0 | F28: 0 | G28: 0 | H28: 1 | L28: =P10/Q10 -> 0.038461538 | O28: =L28*H28 -> 0.038461538 | S28: directly derived from | V28: period
B29: period 2 | Q29: rho | S29: production processes | V29: 1 | W29: 2
B30: A | D30: 1 | E30: 0 | F30: 0 | G30: 0 | H30: 0 | L30: =P15/Q15 -> 0.061538462 | O30: =L30*D30 -> 0.061538462 | Q30: =1-O30/O24 -> 0.2 | S30: =(C6/I6-C15/I15)/(C6/I6) -> 0.2 | V30: 100 | W30: =V30-Q30*V30 -> 80
B31: B | D31: 0 | E31: 1 | F31: 0 | G31: 0 | H31: 0 | L31: =P16/Q16 -> 0.076923077 | O31: =L31*E31 -> 0.076923077 | Q31: =1-O31/O25 -> 0.33333333 | S31: =(C7/I7-C16/I16)/(C7/I7) -> 0.33333333 | V31: 100 | W31: =V31-Q31*V31 -> 66.666667
B32: C | D32: 0 | E32: 0 | F32: 1 | G32: 0 | H32: 0 | L32: =P17/Q17 -> 0.028846154 | O32: =L32*F32 -> 0.028846154 | Q32: =1-O32/O26 -> 0.25 | S32: =(C8/I8-C17/I17)/(C8/I8) -> 0.25 | V32: 100 | W32: =V32-Q32*V32 -> 75
B33: D | D33: 0 | E33: 0 | F33: 0 | G33: 1 | H33: 0 | L33: =P18/Q18 -> 0.038461538 | O33: =L33*G33 -> 0.038461538 | Q33: =1-O33/O27 -> 0 | S33: =(C9/I9-C18/I18)/(C9/I9) -> 0 | V33: 100 | W33: =V33-Q33*V33 -> 100
B34: E | D34: 0 | E34: 0 | F34: 0 | G34: 0 | H34: 1 | L34: =P19/Q19 -> 0.025641026 | O34: =L34*H34 -> 0.025641026 | Q34: =1-O34/O28 -> 0.33333333 | S34: =(C10/I10-C19/I19)/(C10/I10) -> 0.33333333 | V34: 100 | W34: =V34-Q34*V34 -> 66.666667

Sheet intermediate step
P1: relative | Q1: relative
B2: period 1 | N2: result | O2: result | P2: exchange | Q2: result
C3: input | K3: relative | L3: numerator | N3: in price | O3: per unit | P3: value of | Q3: per unit
B4: firm | C4: labour | D4: A | E4: B | F4: C | G4: D | H4: E | I4: output | K4: prices | L4: A | N4: =L4 -> A | O4: labour | P4: goods | Q4: labour
S5: EXPLANATION
B6: A | C6: 40 | E6: 1 | F6: 1 | G6: 0 | H6: 0 | I6: 4 | K6: 10 | L6: =K6/IF($L$4="A",$K$6,IF($L$4="B",$K$7,IF($L$4="C",$K$8,IF($L$4="D",$K$9,IF($L$4="E",$K$10,0))))) -> 1 | N6: =(I6*L6-E6*L7-F6*L8-G6*L9-H6*L10)*$C$20/$C$11 -> 1.9 | O6: =N6/C6 -> 0.0475 | P6: =L6/$N$11 -> 0.095238095 | Q6: =O6/$O$11 -> 0.54285714
B7: B | C7: 30 | D7: 0 | F7: 0 | G7: 0 | H7: 0 | I7: 2 | K7: 15 | L7: =K7/IF($L$4="A",$K$6,IF($L$4="B",$K$7,IF($L$4="C",$K$8,IF($L$4="D",$K$9,IF($L$4="E",$K$10,0))))) -> 1.5 | N7: =(I7*L7-D7*L6-F7*L8-G7*L9-H7*L10)*$C$20/$C$11 -> 3 | O7: =N7/C7 -> 0.1 | P7: =L7/$N$11 -> 0.14285714 | Q7: =O7/$O$11 -> 1.1428571 | S7: instructions:
B8: C | C8: 30 | D8: 0 | E8: 0 | G8: 0 | H8: 0 | I8: 6 | K8: 6 | L8: =K8/IF($L$4="A",$K$6,IF($L$4="B",$K$7,IF($L$4="C",$K$8,IF($L$4="D",$K$9,IF($L$4="E",$K$10,0))))) -> 0.6 | N8: =(I8*L8-D8*L6-E8*L7-G8*L9-H8*L10)*$C$20/$C$11 -> 3.6 | O8: =N8/C8 -> 0.12 | P8: =L8/$N$11 -> 0.057142857 | Q8: =O8/$O$11 -> 1.3714286 | S8: in this sheet we start to take into account the intermediate deliveries of sectors
B9: D | C9: 10 | D9: 0 | E9: 0 | F9: 0 | H9: 0 | I9: 2 | K9: 5 | L9: =K9/IF($L$4="A",$K$6,IF($L$4="B",$K$7,IF($L$4="C",$K$8,IF($L$4="D",$K$9,IF($L$4="E",$K$10,0))))) -> 0.5 | N9: =(I9*L9-D9*L6-E9*L7-F9*L8-H9*L10)*$C$20/$C$11 -> 1 | O9: =N9/C9 -> 0.1 | P9: =L9/$N$11 -> 0.047619048 | Q9: =O9/$O$11 -> 1.1428571 | S9: in this intermediate step we help you first to identify the values of diagonals of both matrices
B10: E | C10: 10 | D10: 0 | E10: 0 | F10: 0 | G10: 0 | I10: 2 | K10: 5 | L10: =K10/IF($L$4="A",$K$6,IF($L$4="B",$K$7,IF($L$4="C",$K$8,IF($L$4="D",$K$9,IF($L$4="E",$K$10,0))))) -> 0.5 | N10: =(I10*L10-D10*L6-E10*L7-F10*L8-G10*L9)*$C$20/$C$11 -> 1 | O10: =N10/C10 -> 0.1 | P10: =L10/$N$11 -> 0.047619048 | Q10: =O10/$O$11 -> 1.1428571 | S10: by clicking on the diagonal values you can see the underlying formulas
B11: totaal | C11: =SUM(C6:C10) -> 120 | N11: =SUM(N6:N10) -> 10.5 | O11: =N11/C11 -> 0.0875 | S11: quite a few restrictions apply to find the correct identification yourselve
S12: so, you may also go directly to the next sheet with the full results
B13: period 2
S14: restrictions and results:
B15: A | C15: 40 | E15: 1 | F15: 1 | G15: 0 | H15: 0 | I15: 5 | K15: 10 | L15: =K15/IF($L$4="A",$K$15,IF($L$4="B",$K$16,IF($L$4="C",$K$17,IF($L$4="D",$K$18,IF($L$4="E",$K$19,0))))) -> 1 | N15: =I15*L15-E15*L16-F15*L17-G15*L18-H15*L19 -> 3.4 | O15: =N15/C15 -> 0.085 | P15: =L15/$N$20 -> 0.082644628 | Q15: =O15/$O$20 -> 0.84297521 | S15: to determine the values of the diagonal of the matrices the following restrictions apply:
B16: B | C16: 30 | D16: 0 | F16: 0 | G16: 0 | H16: 0 | I16: 2 | K16: 11 | L16: =K16/IF($L$4="A",$K$15,IF($L$4="B",$K$16,IF($L$4="C",$K$17,IF($L$4="D",$K$18,IF($L$4="E",$K$19,0))))) -> 1.1 | N16: =I16*L16-D16*L15-F16*L17-G16*L18-H16*L19 -> 2.2 | O16: =N16/C16 -> 0.073333333 | P16: =L16/$N$20 -> 0.090909091 | Q16: =O16/$O$20 -> 0.72727273 | S16: 1 | T16: technical change is only allowed in one sector that uses commodities from other sectors
B17: C | C17: 30 | D17: 0 | E17: 0 | G17: 0 | H17: 0 | I17: 6 | K17: 5 | L17: =K17/IF($L$4="A",$K$15,IF($L$4="B",$K$16,IF($L$4="C",$K$17,IF($L$4="D",$K$18,IF($L$4="E",$K$19,0))))) -> 0.5 | N17: =I17*L17-D17*L15-E17*L16-G17*L18-H17*L19 -> 3 | O17: =N17/C17 -> 0.1 | P17: =L17/$N$20 -> 0.041322314 | Q17: =O17/$O$20 -> 0.99173554 | S17: 2 | T17: in this sector no change in required inputs (labour and intermediate inputs) may occur
B18: D | C18: 10 | D18: 0 | E18: 0 | F18: 0 | H18: 0 | I18: 3 | K18: 5 | L18: =K18/IF($L$4="A",$K$15,IF($L$4="B",$K$16,IF($L$4="C",$K$17,IF($L$4="D",$K$18,IF($L$4="E",$K$19,0))))) -> 0.5 | N18: =I18*L18-D18*L15-E18*L16-F18*L17-H18*L19 -> 1.5 | O18: =N18/C18 -> 0.15 | P18: =L18/$N$20 -> 0.041322314 | Q18: =O18/$O$20 -> 1.4876033 | S18: if these restrictions are taken into account, rho is properly calculated
B19: E | C19: 10 | D19: 0 | E19: 0 | F19: 0 | G19: 0 | I19: 4 | K19: 5 | L19: =K19/IF($L$4="A",$K$15,IF($L$4="B",$K$16,IF($L$4="C",$K$17,IF($L$4="D",$K$18,IF($L$4="E",$K$19,0))))) -> 0.5 | N19: =I19*L19-D19*L15-E19*L16-F19*L17-G19*L18 -> 2 | O19: =N19/C19 -> 0.2 | P19: =L19/$N$20 -> 0.041322314 | Q19: =O19/$O$20 -> 1.9834711 | S19: otherwise, rho will deviate from the directly derived rho
B20: totaal | C20: =SUM(C15:C19) -> 120 | N20: =SUM(N15:N19) -> 12.1 | O20: =N20/C20 -> 0.10083333 | S20: in this sector no change in required inputs (labour and intermediate inputs) may occur
B22: double-sided valuation from period 1 to period 2
B23: period 1
B24: A | D24: =(I6*L6-E6*L7-F6*L8-G6*L9-H6*L10)/(I6*L6) -> 0.475 | E24: 0 | F24: 0 | G24: 0 | H24: 0 | L24: =P6/Q6 -> 0.1754386 | O24: =L24*D24+E24*E25*L25+F24*F26*L26+G24*G27*L27+H24*H28*L28 -> 0.083333333
B25: B | D25: 0 | E25: 1 | F25: 0 | G25: 0 | H25: 0 | L25: =P7/Q7 -> 0.125 | O25: =L25*E25+D25*D24*L24+F25*F26*L26+G25*G27*L27+H25*H28*L28 -> 0.125
B26: C | D26: 0 | E26: 0 | F26: =(I8*L8-D8*L6-E8*L7-G8*L9-H8*L10)/(I8*L8) -> 1 | G26: 0 | H26: 0 | L26: =P8/Q8 -> 0.041666667 | O26: =L26*F26+D26*D24*L24+E26*E25*L25+G26*G27*L27+H26*H28*L28 -> 0.041666667
B27: D | D27: 0 | E27: 0 | F27: 0 | G27: =(I9*L9-D9*L6-E9*L7-F9*L8-H9*L10)/(I9*L9) -> 1 | H27: 0 | L27: =P9/Q9 -> 0.041666667 | O27: =L27*G27+D27*D24*L24+E27*E25*L25+F27*F26*L26+H27*H28*L28 -> 0.041666667 | S27: rho | V27: Index of labour worked up in commodities
B28: E | D28: 0 | E28: 0 | F28: 0 | G28: 0 | H28: =(I10*L10-D10*L6-E10*L7-F10*L8-G10*L9)/(I10*L10) -> 1 | L28: =P10/Q10 -> 0.041666667 | O28: =L28*H28+D28*D24*L24+E28*E25*L25+F28*F26*L26+G28*G27*L27 -> 0.041666667 | S28: directly derived from | V28: period
B29: period 2 | Q29: rho | S29: production processes | V29: 1 | W29: 2
B30: A | D30: =(I15*L15-E15*L16-F15*L17-G15*L18-H15*L19)/(I15*L15) -> 0.68 | E30: 0 | F30: 0 | G30: 0 | H30: 0 | L30: =P15/Q15 -> 0.098039216 | O30: =L30*D30+E30*E31*L31+F30*F32*L32+G30*G33*L33+H30*H34*L34 -> 0.066666667 | Q30: =1-O30/O24 -> 0.2 | S30: =(((C6+(E6/I7)*C7+(F6/I8)*C8+(G6/I9)*C9+(H6/I10)*C10)/I6)-((C15+(E15/I16)*C16+(F15/I17)*C17+(G15/I18)*C18+(H15/I19)*C19)/I15))/((C6+(E6/I7)*C7+(F6/I8)*C8+(G6/I9)*C9+(H6/I10)*C10)/I6) -> 0.2 | V30: 100 | W30: =V30-Q30*V30 -> 80
B31: B | D31: 0 | E31: =(I16*L16-D16*L15-F16*L17-G16*L18-H16*L19)/(I16*L16) -> 1 | F31: 0 | G31: 0 | H31: 0 | L31: =P16/Q16 -> 0.125 | O31: =L31*E31+D31*D30*L30+F31*F32*L32+G31*G33*L33+H31*H34*L34 -> 0.125 | Q31: =1-O31/O25 -> 0 | S31: =(((C7+(D7/I6)*C6+(F7/I8)*C8+(G7/I9)*C9+(H7/I10)*C10)/I7)-((C16+(D16/I15)*C15+(F16/I17)*C17+(G16/I18)*C18+(H16/I19)*C19)/I16))/((C7+(D7/I6)*C6+(F7/I8)*C8+(G7/I9)*C9+(H7/I10)*C10)/I7) -> 0 | V31: 100 | W31: =V31-Q31*V31 -> 100
B32: C | D32: 0 | E32: 0 | F32: =(I17*L17-D17*L15-E17*L16-G17*L18-H17*L19)/(I17*L17) -> 1 | G32: 0 | H32: 0 | L32: =P17/Q17 -> 0.041666667 | O32: =L32*F32+D32*D30*L30+E32*E31*L31+G32*G33*L33+H32*H34*L34 -> 0.041666667 | Q32: =1-O32/O26 -> 0 | S32: =(((C8+(D8/I6)*C6+(E8/I7)*C7+(G8/I9)*C9+(H8/I10)*C10)/I8)-((C17+(D17/I15)*C15+(E17/I16)*C16+(G17/I18)*C18+(H17/I19)*C19)/I17))/((C8+(D8/I6)*C6+(E8/I7)*C7+(G8/I9)*C9+(H8/I10)*C10)/I8) -> 0 | V32: 100 | W32: =V32-Q32*V32 -> 100
B33: D | D33: 0 | E33: 0 | F33: 0 | G33: =(I18*L18-D18*L15-E18*L16-F18*L17-H18*L19)/(I18*L18) -> 1 | H33: 0 | L33: =P18/Q18 -> 0.027777778 | O33: =L33*G33+D33*D30*L30+E33*E31*L31+F33*F32*L32+H33*H34*L34 -> 0.027777778 | Q33: =1-O33/O27 -> 0.33333333 | S33: =(((C9+(D9/I6)*C6+(E9/I7)*C7+(F9/I8)*C8+(H9/I10)*C10)/I9)-((C18+(D18/I15)*C15+(E18/I16)*C16+(F18/I17)*C17+(H18/I19)*C19)/I18))/((C9+(D9/I6)*C6+(E9/I7)*C7+(F9/I8)*C8+(H9/I10)*C10)/I9) -> 0.33333333 | V33: 100 | W33: =V33-Q33*V33 -> 66.666667
B34: E | D34: 0 | E34: 0 | F34: 0 | G34: 0 | H34: =(I19*L19-D19*L15-E19*L16-F19*L17-G19*L18)/(I19*L19) -> 1 | L34: =P19/Q19 -> 0.020833333 | O34: =L34*H34+D34*D30*L30+E34*E31*L31+F34*F32*L32+G34*G33*L33 -> 0.020833333 | Q34: =1-O34/O28 -> 0.5 | S34: =(((C10+(D10/I6)*C6+(E10/I7)*C7+(F10/I8)*C8+(G10/I9)*C9)/I10)-((C19+(D19/I15)*C15+(E19/I16)*C16+(F19/I17)*C17+(G19/I18)*C18)/I19))/((C10+(D10/I6)*C6+(E10/I7)*C7+(F10/I8)*C8+(G10/I9)*C9)/I10) -> 0.5 | V34: 100 | W34: =V34-Q34*V34 -> 50

Sheet direct and indirect labour
N1: Uncorrected results | S1: Correction for varying total labour input
P2: relative | Q2: relative | U2: relative | V2: relative
B3: period 1 | N3: result | O3: result | P3: exchange | Q3: result | S3: result | T3: result | U3: exchange | V3: result
C4: input | K4: relative | L4: numerator | N4: in price | O4: per unit | P4: value of | Q4: per unit | S4: in price | T4: per unit | U4: value of | V4: per unit
B5: sector | C5: labour | D5: A | E5: B | F5: C | G5: D | H5: E | I5: output | K5: prices | L5: A | N5: =L5 -> A | O5: labour | P5: goods | Q5: labour | S5: =L5 -> A | T5: labour | U5: goods | V5: labour
X6: EXPLANATION
B7: A | C7: 40 | E7: 1 | F7: 0 | G7: 0 | H7: 1 | I7: 5 | K7: 10 | L7: =K7/IF($L$5="A",$K$7,IF($L$5="B",$K$8,IF($L$5="C",$K$9,IF($L$5="D",$K$10,IF($L$5="E",$K$11,0))))) -> 1 | S7: =(I7*L7-E7*L8-F7*L9-G7*L10-H7*L11)*$C$21/$C$12 -> 2.5 | T7: =S7/C7 -> 0.0625 | U7: =L7/$S$12 -> 0.09009009 | V7: =T7/$T$12 -> 0.67567568
B8: B | C8: 30 | D8: 1 | F8: 0 | G8: 1 | H8: 0 | I8: 2 | K8: 20 | L8: =K8/IF($L$5="A",$K$7,IF($L$5="B",$K$8,IF($L$5="C",$K$9,IF($L$5="D",$K$10,IF($L$5="E",$K$11,0))))) -> 2 | S8: =(I8*L8-D8*L7-F8*L9-G8*L10-H8*L11)*$C$21/$C$12 -> 2.5 | T8: =S8/C8 -> 0.083333333 | U8: =L8/$S$12 -> 0.18018018 | V8: =T8/$T$12 -> 0.9009009 | X8: instructions:
B9: C | C9: 30 | D9: 0 | E9: 0 | G9: 0 | H9: 0 | I9: 6 | K9: 6 | L9: =K9/IF($L$5="A",$K$7,IF($L$5="B",$K$8,IF($L$5="C",$K$9,IF($L$5="D",$K$10,IF($L$5="E",$K$11,0))))) -> 0.6 | S9: =(I9*L9-D9*L7-E9*L8-G9*L10-H9*L11)*$C$21/$C$12 -> 3.6 | T9: =S9/C9 -> 0.12 | U9: =L9/$S$12 -> 0.054054054 | V9: =T9/$T$12 -> 1.2972973 | X9: you are again free to change the values of the green marked cells
B10: D | C10: 10 | D10: 0.5 | E10: 0 | F10: 0 | H10: 0 | I10: 2 | K10: 5 | L10: =K10/IF($L$5="A",$K$7,IF($L$5="B",$K$8,IF($L$5="C",$K$9,IF($L$5="D",$K$10,IF($L$5="E",$K$11,0))))) -> 0.5 | S10: =(I10*L10-D10*L7-E10*L8-F10*L9-H10*L11)*$C$21/$C$12 -> 0.5 | T10: =S10/C10 -> 0.05 | U10: =L10/$S$12 -> 0.045045045 | V10: =T10/$T$12 -> 0.54054054 | X10: now, these also concern the intermediate input between sectors
B11: E | C11: 10 | D11: 0 | E11: 0 | F11: 0 | G11: 0 | I11: 4 | K11: 5 | L11: =K11/IF($L$5="A",$K$7,IF($L$5="B",$K$8,IF($L$5="C",$K$9,IF($L$5="D",$K$10,IF($L$5="E",$K$11,0))))) -> 0.5 | S11: =(I11*L11-D11*L7-E11*L8-F11*L9-G11*L10)*$C$21/$C$12 -> 2 | T11: =S11/C11 -> 0.2 | U11: =L11/$S$12 -> 0.045045045 | V11: =T11/$T$12 -> 2.1621622 | X11: of course, the production of each sector must be equal to or greater than its total of deliveries to other sectors
B12: totaal | C12: =SUM(C7:C11) -> 120 | S12: =SUM(S7:S11) -> 11.1 | T12: =S12/C12 -> 0.0925 | X12: by clicking on separate cells you can see the underlying formulas
B14: period 2 | X14: three periods are distinguished in this sheet
X15: this requires a rather complicated method to ensure a constant total of labour input over time
B16: A | C16: 40 | E16: 1 | F16: 0 | G16: 0 | H16: 1 | I16: 5 | K16: 10 | L16: =K16/IF($L$5="A",$K$16,IF($L$5="B",$K$17,IF($L$5="C",$K$18,IF($L$5="D",$K$19,IF($L$5="E",$K$20,0))))) -> 1 | N16: =I16*L16-E16*L17-F16*L18-G16*L19-H16*L20 -> 3 | O16: =N16/C16 -> 0.075 | P16: =L16/$N$21 -> 0.10989011 | Q16: =O16/$O$21 -> 0.98901099 | S16: =(I16*L16-E16*L17-F16*L18-G16*L19-H16*L20)*$C$30/$C$21 -> 3 | T16: =S16/C16 -> 0.075 | U16: =L16/$S$21 -> 0.10989011 | V16: =T16/$T$21 -> 0.98901099 | X16: for each comparison of periods asks for a comparison of corrected and uncorrected results
B17: B | C17: 30 | D17: 1 | F17: 0 | G17: 2 | H17: 0 | I17: 2 | K17: 15 | L17: =K17/IF($L$5="A",$K$16,IF($L$5="B",$K$17,IF($L$5="C",$K$18,IF($L$5="D",$K$19,IF($L$5="E",$K$20,0))))) -> 1.5 | N17: =I17*L17-D17*L16-F17*L18-G17*L19-H17*L20 -> 1.2 | O17: =N17/C17 -> 0.04 | P17: =L17/$N$21 -> 0.16483516 | Q17: =O17/$O$21 -> 0.52747253 | S17: =(I17*L17-D17*L16-F17*L18-G17*L19-H17*L20)*$C$30/$C$21 -> 1.2 | T17: =S17/C17 -> 0.04 | U17: =L17/$S$21 -> 0.16483516 | V17: =T17/$T$21 -> 0.52747253 | X17: as appears from the underlying fomulas of the relevant cells
B18: C | C18: 30 | D18: 0 | E18: 0 | G18: 0 | H18: 0 | I18: 6 | K18: 5 | L18: =K18/IF($L$5="A",$K$16,IF($L$5="B",$K$17,IF($L$5="C",$K$18,IF($L$5="D",$K$19,IF($L$5="E",$K$20,0))))) -> 0.5 | N18: =I18*L18-D18*L16-E18*L17-G18*L19-H18*L20 -> 3 | O18: =N18/C18 -> 0.1 | P18: =L18/$N$21 -> 0.054945055 | Q18: =O18/$O$21 -> 1.3186813 | S18: =(I18*L18-D18*L16-E18*L17-G18*L19-H18*L20)*$C$30/$C$21 -> 3 | T18: =S18/C18 -> 0.1 | U18: =L18/$S$21 -> 0.054945055 | V18: =T18/$T$21 -> 1.3186813
B19: D | C19: 10 | D19: 0.5 | E19: 0 | F19: 0 | H19: 0 | I19: 1 | K19: 4 | L19: =K19/IF($L$5="A",$K$16,IF($L$5="B",$K$17,IF($L$5="C",$K$18,IF($L$5="D",$K$19,IF($L$5="E",$K$20,0))))) -> 0.4 | N19: =I19*L19-D19*L16-E19*L17-F19*L18-H19*L20 -> -0.1 | O19: =N19/C19 -> -0.01 | P19: =L19/$N$21 -> 0.043956044 | Q19: =O19/$O$21 -> -0.13186813 | S19: =(I19*L19-D19*L16-E19*L17-F19*L18-H19*L20)*$C$30/$C$21 -> -0.1 | T19: =S19/C19 -> -0.01 | U19: =L19/$S$21 -> 0.043956044 | V19: =T19/$T$21 -> -0.13186813 | X19: the three periods enable to show what happens if the production of a commodity takes two year
B20: E | C20: 10 | D20: 0 | E20: 0 | F20: 0 | G20: 0 | I20: 4 | K20: 5 | L20: =K20/IF($L$5="A",$K$16,IF($L$5="B",$K$17,IF($L$5="C",$K$18,IF($L$5="D",$K$19,IF($L$5="E",$K$20,0))))) -> 0.5 | N20: =I20*L20-D20*L16-E20*L17-F20*L18-G20*L19 -> 2 | O20: =N20/C20 -> 0.2 | P20: =L20/$N$21 -> 0.054945055 | Q20: =O20/$O$21 -> 2.6373626 | S20: =(I20*L20-D20*L16-E20*L17-F20*L18-G20*L19)*$C$30/$C$21 -> 2 | T20: =S20/C20 -> 0.2 | U20: =L20/$S$21 -> 0.054945055 | V20: =T20/$T$21 -> 2.6373626 | X20: and the production starts to fluctuate over time, for instance if the sector consists of three firms, each making one commodity
B21: totaal | C21: =SUM(C16:C20) -> 120 | N21: =SUM(N16:N20) -> 9.1 | O21: =N21/C21 -> 0.075833333 | S21: =SUM(S16:S20) -> 9.1 | T21: =S21/C21 -> 0.075833333 | X21: for that reason the output of sector D falls initially from 2 in period 1 till 1 in period 2 and then return to 2 in period 3, and so on
X22: while the production processes of sector D do not change over time
B23: period 3
X24: results:
B25: A | C25: 40 | E25: 1 | F25: 0 | G25: 0 | H25: 1 | I25: 5 | K25: 10 | L25: =K25/IF($L$5="A",$K$16,IF($L$5="B",$K$17,IF($L$5="C",$K$18,IF($L$5="D",$K$19,IF($L$5="E",$K$20,0))))) -> 1 | N25: =I25*L25-E25*L26-F25*L27-G25*L28-H25*L29 -> 3 | O25: =N25/C25 -> 0.075 | P25: =L25/$N$30 -> 0.1010101 | Q25: =O25/$O$30 -> 0.90909091 | S25: =(I25*L25-E25*L26-F25*L27-G25*L28-H25*L29)*$C$30/$C$21 -> 3 | T25: =S25/C25 -> 0.075 | U25: =L25/$S$30 -> 0.1010101 | V25: =T25/$T$30 -> 0.90909091 | X25: Initially the production processes of all other sectors do not change over time
B26: B | C26: 30 | D26: 1 | F26: 0 | G26: 1 | H26: 0 | I26: 2 | K26: 15 | L26: =K26/IF($L$5="A",$K$16,IF($L$5="B",$K$17,IF($L$5="C",$K$18,IF($L$5="D",$K$19,IF($L$5="E",$K$20,0))))) -> 1.5 | N26: =I26*L26-D26*L25-F26*L27-G26*L28-H26*L29 -> 1.6 | O26: =N26/C26 -> 0.053333333 | P26: =L26/$N$30 -> 0.15151515 | Q26: =O26/$O$30 -> 0.64646465 | S26: =(I26*L26-D26*L25-F26*L27-G26*L28-H26*L29)*$C$30/$C$21 -> 1.6 | T26: =S26/C26 -> 0.053333333 | U26: =L26/$S$30 -> 0.15151515 | V26: =T26/$T$30 -> 0.64646465 | X26: the index of worked up labour of sector D will show a rise till 200 in period 2 and fall back to 100 in period 3
B27: C | C27: 30 | D27: 0 | E27: 0 | G27: 0 | H27: 0 | I27: 6 | K27: 5 | L27: =K27/IF($L$5="A",$K$16,IF($L$5="B",$K$17,IF($L$5="C",$K$18,IF($L$5="D",$K$19,IF($L$5="E",$K$20,0))))) -> 0.5 | N27: =I27*L27-D27*L25-E27*L26-G27*L28-H27*L29 -> 3 | O27: =N27/C27 -> 0.1 | P27: =L27/$N$30 -> 0.050505051 | Q27: =O27/$O$30 -> 1.2121212 | S27: =(I27*L27-D27*L25-E27*L26-G27*L28-H27*L29)*$C$30/$C$21 -> 3 | T27: =S27/C27 -> 0.1 | U27: =L27/$S$30 -> 0.050505051 | V27: =T27/$T$30 -> 1.2121212 | X27: the index of sector B that uses the commodity of sector D will also show a temporary rise
B28: D | C28: 10 | D28: 0.5 | E28: 0 | F28: 0 | H28: 0 | I28: 2 | K28: 4 | L28: =K28/IF($L$5="A",$K$16,IF($L$5="B",$K$17,IF($L$5="C",$K$18,IF($L$5="D",$K$19,IF($L$5="E",$K$20,0))))) -> 0.4 | N28: =I28*L28-D28*L25-E28*L26-F28*L27-H28*L29 -> 0.3 | O28: =N28/C28 -> 0.03 | P28: =L28/$N$30 -> 0.04040404 | Q28: =O28/$O$30 -> 0.36363636 | S28: =(I28*L28-D28*L25-E28*L26-F28*L27-H28*L29)*$C$30/$C$21 -> 0.3 | T28: =S28/C28 -> 0.03 | U28: =L28/$S$30 -> 0.04040404 | V28: =T28/$T$30 -> 0.36363636 | X28: the pattern becomes more complicated if all other sectors experience technical change
B29: E | C29: 10 | D29: 0 | E29: 0 | F29: 0 | G29: 0 | I29: 4 | K29: 5 | L29: =K29/IF($L$5="A",$K$16,IF($L$5="B",$K$17,IF($L$5="C",$K$18,IF($L$5="D",$K$19,IF($L$5="E",$K$20,0))))) -> 0.5 | N29: =I29*L29-D29*L25-E29*L26-F29*L27-G29*L28 -> 2 | O29: =N29/C29 -> 0.2 | P29: =L29/$N$30 -> 0.050505051 | Q29: =O29/$O$30 -> 2.4242424 | S29: =(I29*L29-D29*L25-E29*L26-F29*L27-G29*L28)*$C$30/$C$21 -> 2 | T29: =S29/C29 -> 0.2 | U29: =L29/$S$30 -> 0.050505051 | V29: =T29/$T$30 -> 2.4242424 | X29: as you can see by changing the values of the green marked cells
B30: totaal | C30: =SUM(C25:C29) -> 120 | N30: =SUM(N25:N29) -> 9.9 | O30: =N30/C30 -> 0.0825 | S30: =SUM(S25:S29) -> 9.9 | T30: =S30/C30 -> 0.0825
B32: twofod valuation from period 1 to period 2 and from period 2 to period 3
B33: period 1
B34: A | D34: =(I7*L7-E7*L8-F7*L9-G7*L10-H7*L11)/(I7*L7) -> 0.5 | E34: =E7/I7 -> 0.2 | F34: =F7/I7 -> 0 | G34: =G7/I7 -> 0 | H34: =H7/I7 -> 0.2 | L34: =U7/V7 -> 0.13333333 | O34: =L34*D34+E34*E35*L35+F34*F36*L36+G34*G37*L37+H34*H38*L38 -> 0.095833333
B35: B | D35: =D8/I8 -> 0.5 | E35: =(I8*L8-D8*L7-F8*L9-G8*L10-H8*L11)/(I8*L8) -> 0.625 | F35: =F8/I8 -> 0 | G35: =G8/I8 -> 0.5 | H35: =H8/I8 -> 0 | L35: =U8/V8 -> 0.2 | O35: =L35*E35+D35*D34*L34+F35*F36*L36+G35*G37*L37+H35*H38*L38 -> 0.17916667
B36: C | D36: =D9/I9 -> 0 | E36: =E9/I9 -> 0 | F36: =(I9*L9-D9*L7-E9*L8-G9*L10-H9*L11)/(I9*L9) -> 1 | G36: =G9/I9 -> 0 | H36: =H9/I9 -> 0 | L36: =U9/V9 -> 0.041666667 | O36: =L36*F36+D36*D34*L34+E36*E35*L35+G36*G37*L37+H36*H38*L38 -> 0.041666667
B37: D | D37: =D10/I10 -> 0.25 | E37: =E10/I10 -> 0 | F37: =F10/I10 -> 0 | G37: =(I10*L10-D10*L7-E10*L8-F10*L9-H10*L11)/(I10*L10) -> 0.5 | H37: =H10/I10 -> 0 | L37: =U10/V10 -> 0.083333333 | O37: =L37*G37+D37*D34*L34+E37*E35*L35+F37*F36*L36+H37*H38*L38 -> 0.058333333 | S37: rho | V37: Index of labour worked up in commodities
B38: E | D38: =D11/I11 -> 0 | E38: =E11/I11 -> 0 | F38: =F11/I11 -> 0 | G38: =G11/I11 -> 0 | H38: =(I11*L11-D11*L7-E11*L8-F11*L9-G11*L10)/(I11*L11) -> 1 | L38: =U11/V11 -> 0.020833333 | O38: =L38*H38+D38*D34*L34+E38*E35*L35+F38*F36*L36+G38*G37*L37 -> 0.020833333 | S38: directly derived from | V38: period
B39: period 2 | Q39: rho | S39: production processes | V39: 1 | W39: 2 | X39: 3
B40: A | D40: =(I16*L16-E16*L17-F16*L18-G16*L19-H16*L20)/(I16*L16) -> 0.6 | E40: =E16/I16 -> 0.2 | F40: =F16/I16 -> 0 | G40: =G16/I16 -> 0 | H40: =H16/I16 -> 0.2 | K40: =P16/Q16 -> 0.11111111 | L40: =U16/V16 -> 0.11111111 | N40: =K40*D40+E40*E41*K41+F40*F42*K42+G40*G43*K43+H40*H44*K44 -> 0.095833333 | O40: =L40*D40+E40*E41*L41+F40*F42*L42+G40*G43*L43+H40*H44*L44 -> 0.095833333 | Q40: =1-N40/O34 -> 0 | S40: =(((C7+(E7/I8)*C8+(F7/I9)*C9+(G7/I10)*C10+(H7/I11)*C11)/I7)-((C16+(E16/I17)*C17+(F16/I18)*C18+(G16/I19)*C19+(H16/I20)*C20)/I16))/((C7+(E7/I8)*C8+(F7/I9)*C9+(G7/I10)*C10+(H7/I11)*C11)/I7) -> 0 | V40: 100 | W40: =V40-S40*V40 -> 100 | X40: =W40-S46*W40 -> 100
B41: B | D41: =D17/I17 -> 0.5 | E41: =(I17*L17-D17*L16-F17*L18-G17*L19-H17*L20)/(I17*L17) -> 0.4 | F41: =F17/I17 -> 0 | G41: =G17/I17 -> 1 | H41: =H17/I17 -> 0 | K41: =P17/Q17 -> 0.3125 | L41: =U17/V17 -> 0.3125 | N41: =K41*E41+D41*D40*K40+F41*F42*K42+G41*G43*K43+H41*H44*K44 -> 0.24166667 | O41: =L41*E41+D41*D40*L40+F41*F42*L42+G41*G43*L43+H41*H44*L44 -> 0.24166667 | Q41: =1-N41/O35 -> -0.34883721 | S41: =(((C8+(D8/I7)*C7+(F8/I9)*C9+(G8/I10)*C10+(H8/I11)*C11)/I8)-((C17+(D17/I16)*C16+(F17/I18)*C18+(G17/I19)*C19+(H17/I20)*C20)/I17))/((C8+(D8/I7)*C7+(F8/I9)*C9+(G8/I10)*C10+(H8/I11)*C11)/I8) -> -0.34883721 | V41: 100 | W41: =V41-S41*V41 -> 134.88372 | X41: =W41-S47*W41 -> 100
B42: C | D42: =D18/I18 -> 0 | E42: =E18/I18 -> 0 | F42: =(I18*L18-D18*L16-E18*L17-G18*L19-H18*L20)/(I18*L18) -> 1 | G42: =G18/I18 -> 0 | H42: =H18/I18 -> 0 | K42: =P18/Q18 -> 0.041666667 | L42: =U18/V18 -> 0.041666667 | N42: =K42*F42+D42*D40*K40+E42*E41*K41+G42*G43*K43+H42*H44*K44 -> 0.041666667 | O42: =L42*F42+D42*D40*L40+E42*E41*L41+G42*G43*L43+H42*H44*L44 -> 0.041666667 | Q42: =1-N42/O36 -> 0 | S42: =(((C9+(D9/I7)*C7+(E9/I8)*C8+(G9/I10)*C10+(H9/I11)*C11)/I9)-((C18+(D18/I16)*C16+(E18/I17)*C17+(G18/I19)*C19+(H18/I20)*C20)/I18))/((C9+(D9/I7)*C7+(E9/I8)*C8+(G9/I10)*C10+(H9/I11)*C11)/I9) -> 0 | V42: 100 | W42: =V42-S42*V42 -> 100 | X42: =W42-S48*W42 -> 100
...

Sheet Malthus' table
A1: Malthus' original table with nine columns, supplemented with five columns to measure technical change
B3: 1. | C3: 2. | D3: 3. | E3: 4. | F3: 5. | G3: 6. | H3: 7. | I3: 8. | J3: 9.
F4: Quantity of
B5: Quarters of | C5: Yearly Corn | D5: Advances in | F5: Labour re- | I5: Value of 100 | J5: Value of the
B6: Corn produced | C6: Wages to each | D6: Corn Wages, | F6: quired to pro- | G6: Quantity of | H6: Invariable | I6: Quarters of | J6: Product of the | L6: 10 | M6: 11 | N6: 12 | O6: 13 | P6: 14
B7: by Ten Men, | C7: Labourer, de- | D7: or variable | E7: Rate of Profits | F7: duce the Wages | G7: Profits on the | H7: Value of the | I7: Corn under the | J7: Labour of Ten
B8: on varying Fer- | C8: termined by | D8: Produce com- | E8: under the | F8: of Ten men | G8: Advances of | H8: Wages of a | I8: varying Cir- | J8: Men under the | L8: price of | M8: result | N8: relative | O8: relative | P8: rho | Q8: rho
B9: tility of the | C9: the Demand | D9: manding the | E9: foregoing Cir- | F9: under the | G9: Labour. | H9: given Number | I9: cumstances | J9: Circumstances | L9: one quarter | M9: per unit | N9: exchange | O9: result | P9: compared | Q9: directly derived from
B10: Soil. | C10: and Supply. | D10: Labour of | E10: cumstances. | F10: forgoing Cir- | H10: of Men. | I10: supposed. | J10: supposed. | L10: of corn | M10: labour | N10: value of | O10: per unit | P10: to row 1 | Q10: production processes
D11: Ten Men. | F11: cumstances. | N11: corn | O11: labour
B13: qrs. | C13: qrs. | D13: qrs. | E13: pr.Ct.
A14: 1 | B14: 150 | C14: 12 | D14: =C14*10 -> 120 | E14: =100*(B14-D14)/D14 -> 25 | F14: =(D14/B14)*10 -> 8 | G14: =((B14-D14)/B14)*10 -> 2 | H14: =F14+G14 -> 10 | I14: =(100/B14)*J14 -> 8.3333333 | J14: =H14*(1+E14/100) -> 12.5 | L14: =J14/B14 -> 0.083333333 | M14: =J14/10 -> 1.25 | N14: =L14/J14 -> 0.0066666667 | O14: 1
A15: 2 | B15: 150 | C15: 13 | D15: =C15*10 -> 130 | E15: =100*(B15-D15)/D15 -> 15.384615 | F15: =(D15/B15)*10 -> 8.6666667 | G15: =((B15-D15)/B15)*10 -> 1.3333333 | H15: =F15+G15 -> 10 | I15: =(100/B15)*J15 -> 7.6923077 | J15: =H15*(1+E15/100) -> 11.538462 | L15: =J15/B15 -> 0.076923077 | M15: =J15/10 -> 1.1538462 | N15: =L15/J15 -> 0.0066666667 | O15: 1 | P15: =1-N15/$N$14 -> 0 | Q15: =(10/$B$14-10/B15)/(10/$B$14) -> 0
A16: 3 | B16: 150 | C16: 10 | D16: =C16*10 -> 100 | E16: =100*(B16-D16)/D16 -> 50 | F16: =(D16/B16)*10 -> 6.6666667 | G16: =((B16-D16)/B16)*10 -> 3.3333333 | H16: =F16+G16 -> 10 | I16: =(100/B16)*J16 -> 10 | J16: =H16*(1+E16/100) -> 15 | L16: =J16/B16 -> 0.1 | M16: =J16/10 -> 1.5 | N16: =L16/J16 -> 0.0066666667 | O16: 1 | P16: =1-N16/$N$14 -> 0 | Q16: =(10/$B$14-10/B16)/(10/$B$14) -> 0
A17: 4 | B17: 140 | C17: 12 | D17: =C17*10 -> 120 | E17: =100*(B17-D17)/D17 -> 16.666667 | F17: =(D17/B17)*10 -> 8.5714286 | G17: =((B17-D17)/B17)*10 -> 1.4285714 | H17: =F17+G17 -> 10 | I17: =(100/B17)*J17 -> 8.3333333 | J17: =H17*(1+E17/100) -> 11.666667 | L17: =J17/B17 -> 0.083333333 | M17: =J17/10 -> 1.1666667 | N17: =L17/J17 -> 0.0071428571 | O17: 1 | P17: =1-N17/$N$14 -> -0.071428571 | Q17: =(10/$B$14-10/B17)/(10/$B$14) -> -0.071428571
A18: 5 | B18: 140 | C18: 11 | D18: =C18*10 -> 110 | E18: =100*(B18-D18)/D18 -> 27.272727 | F18: =(D18/B18)*10 -> 7.8571429 | G18: =((B18-D18)/B18)*10 -> 2.1428571 | H18: =F18+G18 -> 10 | I18: =(100/B18)*J18 -> 9.0909091 | J18: =H18*(1+E18/100) -> 12.727273 | L18: =J18/B18 -> 0.090909091 | M18: =J18/10 -> 1.2727273 | N18: =L18/J18 -> 0.0071428571 | O18: 1 | P18: =1-N18/$N$14 -> -0.071428571 | Q18: =(10/$B$14-10/B18)/(10/$B$14) -> -0.071428571
A19: 6 | B19: 130 | C19: 12 | D19: =C19*10 -> 120 | E19: =100*(B19-D19)/D19 -> 8.3333333 | F19: =(D19/B19)*10 -> 9.2307692 | G19: =((B19-D19)/B19)*10 -> 0.76923077 | H19: =F19+G19 -> 10 | I19: =(100/B19)*J19 -> 8.3333333 | J19: =H19*(1+E19/100) -> 10.833333 | L19: =J19/B19 -> 0.083333333 | M19: =J19/10 -> 1.0833333 | N19: =L19/J19 -> 0.0076923077 | O19: 1 | P19: =1-N19/$N$14 -> -0.15384615 | Q19: =(10/$B$14-10/B19)/(10/$B$14) -> -0.15384615
A20: 7 | B20: 130 | C20: 10 | D20: =C20*10 -> 100 | E20: =100*(B20-D20)/D20 -> 30 | F20: =(D20/B20)*10 -> 7.6923077 | G20: =((B20-D20)/B20)*10 -> 2.3076923 | H20: =F20+G20 -> 10 | I20: =(100/B20)*J20 -> 10 | J20: =H20*(1+E20/100) -> 13 | L20: =J20/B20 -> 0.1 | M20: =J20/10 -> 1.3 | N20: =L20/J20 -> 0.0076923077 | O20: 1 | P20: =1-N20/$N$14 -> -0.15384615 | Q20: =(10/$B$14-10/B20)/(10/$B$14) -> -0.15384615
A21: 8 | B21: 120 | C21: 11 | D21: =C21*10 -> 110 | E21: =100*(B21-D21)/D21 -> 9.0909091 | F21: =(D21/B21)*10 -> 9.1666667 | G21: =((B21-D21)/B21)*10 -> 0.83333333 | H21: =F21+G21 -> 10 | I21: =(100/B21)*J21 -> 9.0909091 | J21: =H21*(1+E21/100) -> 10.909091 | L21: =J21/B21 -> 0.090909091 | M21: =J21/10 -> 1.0909091 | N21: =L21/J21 -> 0.0083333333 | O21: 1 | P21: =1-N21/$N$14 -> -0.25 | Q21: =(10/$B$14-10/B21)/(10/$B$14) -> -0.25
A22: 9 | B22: 120 | C22: 10 | D22: =C22*10 -> 100 | E22: =100*(B22-D22)/D22 -> 20 | F22: =(D22/B22)*10 -> 8.3333333 | G22: =((B22-D22)/B22)*10 -> 1.6666667 | H22: =F22+G22 -> 10 | I22: =(100/B22)*J22 -> 10 | J22: =H22*(1+E22/100) -> 12 | L22: =J22/B22 -> 0.1 | M22: =J22/10 -> 1.2 | N22: =L22/J22 -> 0.0083333333 | O22: 1 | P22: =1-N22/$N$14 -> -0.25 | Q22: =(10/$B$14-10/B22)/(10/$B$14) -> -0.25
A23: 10 | B23: 110 | C23: 10 | D23: =C23*10 -> 100 | E23: =100*(B23-D23)/D23 -> 10 | F23: =(D23/B23)*10 -> 9.0909091 | G23: =((B23-D23)/B23)*10 -> 0.90909091 | H23: =F23+G23 -> 10 | I23: =(100/B23)*J23 -> 10 | J23: =H23*(1+E23/100) -> 11 | L23: =J23/B23 -> 0.1 | M23: =J23/10 -> 1.1 | N23: =L23/J23 -> 0.0090909091 | O23: 1 | P23: =1-N23/$N$14 -> -0.36363636 | Q23: =(10/$B$14-10/B23)/(10/$B$14) -> -0.36363636
A24: 11 | B24: 110 | C24: 9 | D24: =C24*10 -> 90 | E24: =100*(B24-D24)/D24 -> 22.222222 | F24: =(D24/B24)*10 -> 8.1818182 | G24: =((B24-D24)/B24)*10 -> 1.8181818 | H24: =F24+G24 -> 10 | I24: =(100/B24)*J24 -> 11.111111 | J24: =H24*(1+E24/100) -> 12.222222 | L24: =J24/B24 -> 0.11111111 | M24: =J24/10 -> 1.2222222 | N24: =L24/J24 -> 0.0090909091 | O24: 1 | P24: =1-N24/$N$14 -> -0.36363636 | Q24: =(10/$B$14-10/B24)/(10/$B$14) -> -0.36363636
A25: 12 | B25: 100 | C25: 9 | D25: =C25*10 -> 90 | E25: =100*(B25-D25)/D25 -> 11.111111 | F25: =(D25/B25)*10 -> 9 | G25: =((B25-D25)/B25)*10 -> 1 | H25: =F25+G25 -> 10 | I25: =(100/B25)*J25 -> 11.111111 | J25: =H25*(1+E25/100) -> 11.111111 | L25: =J25/B25 -> 0.11111111 | M25: =J25/10 -> 1.1111111 | N25: =L25/J25 -> 0.01 | O25: 1 | P25: =1-N25/$N$14 -> -0.5 | Q25: =(10/$B$14-10/B25)/(10/$B$14) -> -0.5
A26: 13 | B26: 100 | C26: 8 | D26: =C26*10 -> 80 | E26: =100*(B26-D26)/D26 -> 25 | F26: =(D26/B26)*10 -> 8 | G26: =((B26-D26)/B26)*10 -> 2 | H26: =F26+G26 -> 10 | I26: =(100/B26)*J26 -> 12.5 | J26: =H26*(1+E26/100) -> 12.5 | L26: =J26/B26 -> 0.125 | M26: =J26/10 -> 1.25 | N26: =L26/J26 -> 0.01 | O26: 1 | P26: =1-N26/$N$14 -> -0.5 | Q26: =(10/$B$14-10/B26)/(10/$B$14) -> -0.5
A27: 14 | B27: 90 | C27: 8 | D27: =C27*10 -> 80 | E27: =100*(B27-D27)/D27 -> 12.5 | F27: =(D27/B27)*10 -> 8.8888889 | G27: =((B27-D27)/B27)*10 -> 1.1111111 | H27: =F27+G27 -> 10 | I27: =(100/B27)*J27 -> 12.5 | J27: =H27*(1+E27/100) -> 11.25 | L27: =J27/B27 -> 0.125 | M27: =J27/10 -> 1.125 | N27: =L27/J27 -> 0.011111111 | O27: 1 | P27: =1-N27/$N$14 -> -0.66666667 | Q27: =(10/$B$14-10/B27)/(10/$B$14) -> -0.66666667
A29: Table
A30: The production processes of row 1 and 10 are split into two firms that only differ in their output prices of one quarter of corn
A31: It shows that different output prices for firms with the same production processes do not affect the measured technical change
H32: relative | I32: relative
B33: period 1 | F33: result | G33: result | H33: exchange | I33: result
C34: input | G34: per unit | H34: value of | I34: per unit
B35: firm | C35: labour | D35: output | E35: prices | G35: labour | H35: corn | I35: labour
A37: 1 | B37: A | C37: 10 | D37: 150 | E37: 1 | F37: =E37*D37 -> 150 | G37: =F37/C37 -> 15 | H37: =E37/$F$39 -> 0.0034666667 | I37: =G37/$G$39 -> 1.04 | J37: =H37/I37 -> 0.0033333333
A38: 1 | B38: B | C38: 10 | D38: 150 | E38: =L15/L14 -> 0.92307692 | F38: =E38*D38 -> 138.46154 | G38: =F38/C38 -> 13.846154 | H38: =E38/$F$39 -> 0.0032 | I38: =G38/$G$39 -> 0.96 | J38: =H38/I38 -> 0.0033333333
C39: =C37+C38 -> 20 | F39: =F37+F38 -> 288.46154 | G39: =F39/C39 -> 14.423077
A41: 10 | B41: A | C41: 10 | D41: =B23 -> 110 | E41: 1 | F41: =E41*D41 -> 110 | G41: =F41/C41 -> 11 | H41: =E41/$F$43 -> 0.0043062201 | I41: =G41/$G$43 -> 0.94736842 | J41: =H41/I41 -> 0.0045454545
A42: 10 | B42: B | C42: 10 | D42: =B24 -> 110 | E42: =L24/L23 -> 1.1111111 | F42: =E42*D42 -> 122.22222 | G42: =F42/C42 -> 12.222222 | H42: =E42/$F$43 -> 0.004784689 | I42: =G42/$G$43 -> 1.0526316 | J42: =H42/I42 -> 0.0045454545
C43: =C41+C42 -> 20 | F43: =F41+F42 -> 232.22222 | G43: =F43/C43 -> 11.611111
J44: rho compared to row 1
J46: =1-J41/J37 -> -0.36363636
...

Sheet OVERVIEW
B1: Overview of two investment approaches of the twofold valuation method
B2: What do you want to see? Choose one of the following options:
B3: A | C3: Initially no technical change over five periods
B4: B | C4: In period 2 new machines are produced by sector C that sector B allow to produce 50 per cent more. Sector C needs to expand its workforce by one-off 10 per cent
B5: C | C5: The same as option B, but here the workforce of sector C remains after period 2 at the level of period 2
B6: D | C6: Change all the parameters as you desire by changing the green cells of the columns N till V - These changes become effective by choosing option D
M8: First approach | AJ8: Second approach (investments ingnored)
B9: My option is | D9: d | F9: Results of option | J9: =D9 -> d | M9: Technical change in the commodities of sectors or firms | X9: Index of labour worked in the commodities of sectors or firms | AJ9: Index of labour worked in the commodities of sectors or firms
N10: Period | Y10: Period | AK10: Period
B11: The next tables show the results of the option chosen | M11: firm | P11: 1-2 | R11: 2-3 | T11: 3-4 | U11: 4-5 | Y11: 1 | AA11: 2 | AC11: 3 | AE11: 4 | AF11: 5 | AK11: 1 | AM11: 2 | AO11: 3 | AQ11: 4 | AS11: 5
B12: The next two sheets show the details and the formulas | M12: A | P12: ='first approach investment'!S80 -> -0.16363636 | R12: ='first approach investment'!T80 -> 0.03125 | T12: ='first approach investment'!U80 -> 0.016129032 | U12: ='first approach investment'!V80 -> 0.016393443 | X12: A | Y12: ='first approach investment'!R88 -> 100 | AA12: ='first approach investment'!S88 -> 116.36364 | AC12: ='first approach investment'!T88 -> 112.72727 | AE12: ='first approach investment'!U88 -> 110.90909 | AF12: ='first approach investment'!V88 -> 109.09091 | AJ12: A | AK12: ='second approach investment'!Q88 -> 100 | AM12: ='second approach investment'!R88 -> 116.36364 | AO12: ='second approach investment'!S88 -> 112.72727 | AQ12: ='second approach investment'!T88 -> 110.90909 | AS12: ='second approach investment'!U88 -> 109.09091
B13: that determine the results | M13: B | P13: ='first approach investment'!AF81 -> 0.097142857 | R13: ='first approach investment'!AG81 -> 0.1471519 | T13: ='first approach investment'!AH81 -> 0.04 | U13: ='first approach investment'!AI81 -> 0.074074074 | X13: B | Y13: ='first approach investment'!AE87 -> 100 | AA13: ='first approach investment'!AF87 -> 90.285714 | AC13: ='first approach investment'!AG87 -> 77 | AE13: ='first approach investment'!AH87 -> 73.92 | AF13: ='first approach investment'!AI87 -> 68.444444 | AJ13: B | AK13: ='second approach investment'!AD87 -> 100 | AM13: ='second approach investment'!AE87 -> 88.831169 | AO13: ='second approach investment'!AF87 -> 77.727273 | AQ13: ='second approach investment'!AG87 -> 74.618182 | AS13: ='second approach investment'!AH87 -> 69.090909
B14: You are not allowed to make any change on these two sheets. | M14: …B1 | P14: ='first approach investment'!S81 -> -0.49090909 | R14: ='first approach investment'!T81 -> 0.53658537 | T14: ='first approach investment'!U81 -> 0 | U14: ='first approach investment'!V81 -> -1.0526316 | X14: …B1 | Y14: ='first approach investment'!R89 -> 100 | AA14: ='first approach investment'!S89 -> 149.09091 | AC14: ='first approach investment'!T89 -> 69.090909 | AE14: ='first approach investment'!U89 -> 69.090909 | AF14: ='first approach investment'!V89 -> 141.81818 | AJ14: …B1 | AK14: ='second approach investment'!Q89 -> 100 | AM14: ='second approach investment'!R89 -> 69.090909 | AO14: ='second approach investment'!S89 -> 69.090909 | AQ14: ='second approach investment'!T89 -> 69.090909 | AS14: ='second approach investment'!U89 -> 69.090909
M15: …B2 | P15: ='first approach investment'!S82 -> -0.036363636 | R15: ='first approach investment'!T82 -> -0.36842105 | T15: ='first approach investment'!U82 -> 0.45192308 | U15: ='first approach investment'!V82 -> 0.11111111 | X15: …B2 | Y15: ='first approach investment'!R90 -> 100 | AA15: ='first approach investment'!S90 -> 103.63636 | AC15: ='first approach investment'!T90 -> 141.81818 | AE15: ='first approach investment'!U90 -> 77.727273 | AF15: ='first approach investment'!V90 -> 69.090909 | AJ15: …B2 | AK15: ='second approach investment'!Q90 -> 100 | AM15: ='second approach investment'!R90 -> 103.63636 | AO15: ='second approach investment'!S90 -> 69.090909 | AQ15: ='second approach investment'!T90 -> 77.727273 | AS15: ='second approach investment'!U90 -> 69.090909
M16: …B3 | P16: ='first approach investment'!S83 -> 0.50434783 | R16: ='first approach investment'!T83 -> 0 | T16: ='first approach investment'!U83 -> -0.53947368 | U16: ='first approach investment'!V83 -> 0.56695157 | X16: …B3 | Y16: ='first approach investment'!R91 -> 205.26316 | AA16: ='first approach investment'!S91 -> 101.73913 | AC16: ='first approach investment'!T91 -> 101.73913 | AE16: ='first approach investment'!U91 -> 156.62471 | AF16: ='first approach investment'!V91 -> 67.826087 | AJ16: …B3 | AK16: ='second approach investment'!Q91 -> 100 | AM16: ='second approach investment'!R91 -> 103.63636 | AO16: ='second approach investment'!S91 -> 103.63636 | AQ16: ='second approach investment'!T91 -> 77.727273 | AS16: ='second approach investment'!U91 -> 69.090909
M17: C | P17: ='first approach investment'!S84 -> -0.11428571 | R17: ='first approach investment'!T84 -> 0.076923077 | T17: ='first approach investment'!U84 -> 0 | U17: ='first approach investment'!V84 -> 0 | X17: C | Y17: ='first approach investment'!R92 -> 100 | AA17: ='first approach investment'!S92 -> 111.42857 | AC17: ='first approach investment'!T92 -> 102.85714 | AE17: ='first approach investment'!U92 -> 102.85714 | AF17: ='first approach investment'!V92 -> 102.85714 | AJ17: C | AK17: ='second approach investment'!Q92 -> 100 | AM17: ='second approach investment'!R92 -> 111.42857 | AO17: ='second approach investment'!S92 -> 102.85714 | AQ17: ='second approach investment'!T92 -> 102.85714 | AS17: ='second approach investment'!U92 -> 102.85714
B19: The parameters below in red are the result of your choice | N19: You are free to change the parameters below in green
B20: They are the input of the next two sheets | N20: if option D is chosen
B21: You are not allowed to change them yourself | N21: However, you should take notice of the restrictions | X21: The parameters below are of option A | AI21: The parameters below are of option B | AT21: The parameters below are of option C
B22: You can only change them by choosing another option | N22: as mentioned on earlier sheets | X22: You are not allowed to change them | AI22: You are not allowed to change them | AT22: You are not allowed to change them
B24: period 1 | I24: numerator | K24: =IF($D$9="D",V24,"A") -> B | M24: period 1 | T24: numerator | V24: B | X24: period 1 | AI24: period 1 | AT24: period 1
C25: input | K25: relative | N25: input | V25: relative | Y25: input | AG25: relative | AJ25: input | AR25: relative | AU25: input | BC25: relative
B26: firm | C26: labour | D26: A | E26: B1 | F26: B2 | G26: B3 | H26: C | I26: output | K26: prices | M26: firm | N26: labour | O26: A | P26: B1 | Q26: B2 | R26: B3 | S26: C | T26: output | V26: prices | X26: firm | Y26: labour | Z26: A | AA26: B1 | AB26: B2 | AC26: B3 | AD26: C | AE26: output | AG26: prices | AI26: firm | AJ26: labour | AK26: A | AL26: B1 | AM26: B2 | AN26: B3 | AO26: C | AP26: output | AR26: prices | AT26: firm | AU26: labour | AV26: A | AW26: B1 | AX26: B2 | AY26: B3 | AZ26: C | BA26: output | BC26: prices
B27: A | C27: =IF($D$9="D",N27,IF($D$9="A",Y27,IF($D$9="B",AJ27,IF($D$9="C",AU27,N27)))) -> 40 | E27: =IF($D$9="D",P27,IF($D$9="A",AA27,IF($D$9="B",AL27,IF($D$9="C",AW27,P27)))) -> 0.5 | F27: =IF($D$9="D",Q27,IF($D$9="A",AB27,IF($D$9="B",AM27,IF($D$9="C",AX27,Q27)))) -> 0.5 | G27: =IF($D$9="D",R27,IF($D$9="A",AC27,IF($D$9="B",AN27,IF($D$9="C",AY27,R27)))) -> 0.5 | H27: =IF($D$9="D",S27,IF($D$9="A",AD27,IF($D$9="B",AO27,IF($D$9="C",AZ27,S27)))) -> 0 | I27: =IF($D$9="D",T27,IF($D$9="A",AE27,IF($D$9="B",AP27,IF($D$9="C",BA27,T27)))) -> 6 | K27: =IF($D$9="D",V27,IF($D$9="A",AG27,IF($D$9="B",AR27,IF($D$9="C",BC27,V27)))) -> 10 | M27: A | N27: 40 | P27: 0.5 | Q27: 0.5 | R27: 0.5 | S27: 0 | T27: 6 | V27: 10 | X27: A | Y27: 40 | AA27: 0.5 | AB27: 0.5 | AC27: 0.5 | AD27: 0 | AE27: 5 | AG27: 10 | AI27: A | AJ27: 40 | AL27: 0.5 | AM27: 0.5 | AN27: 0.5 | AO27: 0 | AP27: 5 | AR27: 10 | AT27: A | AU27: 40 | AW27: 0.5 | AX27: 0.5 | AY27: 0.5 | AZ27: 0 | BA27: 5 | BC27: 10
B28: B1 | C28: =IF($D$9="D",N28,IF($D$9="A",Y28,IF($D$9="B",AJ28,IF($D$9="C",AU28,N28)))) -> 30 | D28: =IF($D$9="D",O28,IF($D$9="A",Z28,IF($D$9="B",AK28,IF($D$9="C",AV28,O28)))) -> 1 | F28: =IF($D$9="D",Q28,IF($D$9="A",AB28,IF($D$9="B",AM28,IF($D$9="C",AX28,Q28)))) -> 0 | G28: =IF($D$9="D",R28,IF($D$9="A",AC28,IF($D$9="B",AN28,IF($D$9="C",AY28,R28)))) -> 0 | H28: =IF($D$9="D",S28,IF($D$9="A",AD28,IF($D$9="B",AO28,IF($D$9="C",AZ28,S28)))) -> 0 | I28: =IF($D$9="D",T28,IF($D$9="A",AE28,IF($D$9="B",AP28,IF($D$9="C",BA28,T28)))) -> 3 | K28: =IF($D$9="D",V28,IF($D$9="A",AG28,IF($D$9="B",AR28,IF($D$9="C",BC28,V28)))) -> 12 | M28: B1 | N28: 30 | O28: 1 | Q28: 0 | R28: 0 | S28: 0 | T28: 3 | V28: 12 | X28: B1 | Y28: 30 | Z28: 1 | AB28: 0 | AC28: 0 | AD28: 0 | AE28: 3 | AG28: 12 | AI28: B1 | AJ28: 30 | AK28: 1 | AM28: 0 | AN28: 0 | AO28: 0 | AP28: 3 | AR28: 12 | AT28: B1 | AU28: 30 | AV28: 1 | AX28: 0 | AY28: 0 | AZ28: 0 | BA28: 3 | BC28: 12
B29: B2 | C29: =IF($D$9="D",N29,IF($D$9="A",Y29,IF($D$9="B",AJ29,IF($D$9="C",AU29,N29)))) -> 30 | D29: =IF($D$9="D",O29,IF($D$9="A",Z29,IF($D$9="B",AK29,IF($D$9="C",AV29,O29)))) -> 1 | E29: =IF($D$9="D",P29,IF($D$9="A",AA29,IF($D$9="B",AL29,IF($D$9="C",AW29,P29)))) -> 0 | G29: =IF($D$9="D",R29,IF($D$9="A",AC29,IF($D$9="B",AN29,IF($D$9="C",AY29,R29)))) -> 0 | H29: =IF($D$9="D",S29,IF($D$9="A",AD29,IF($D$9="B",AO29,IF($D$9="C",AZ29,S29)))) -> 0 | I29: =IF($D$9="D",T29,IF($D$9="A",AE29,IF($D$9="B",AP29,IF($D$9="C",BA29,T29)))) -> 3 | K29: =IF($D$9="D",V29,IF($D$9="A",AG29,IF($D$9="B",AR29,IF($D$9="C",BC29,V29)))) -> 12 | M29: B2 | N29: 30 | O29: 1 | P29: 0 | R29: 0 | S29: 0 | T29: 3 | V29: 12 | X29: B2 | Y29: 30 | Z29: 1 | AA29: 0 | AC29: 0 | AD29: 0 | AE29: 3 | AG29: 12 | AI29: B2 | AJ29: 30 | AK29: 1 | AL29: 0 | AN29: 0 | AO29: 0 | AP29: 3 | AR29: 12 | AT29: B2 | AU29: 30 | AV29: 1 | AW29: 0 | AY29: 0 | AZ29: 0 | BA29: 3 | BC29: 12
B30: B3 | C30: =IF($D$9="D",N30,IF($D$9="A",Y30,IF($D$9="B",AJ30,IF($D$9="C",AU30,N30)))) -> 30 | D30: =IF($D$9="D",O30,IF($D$9="A",Z30,IF($D$9="B",AK30,IF($D$9="C",AV30,O30)))) -> 1 | E30: =IF($D$9="D",P30,IF($D$9="A",AA30,IF($D$9="B",AL30,IF($D$9="C",AW30,P30)))) -> 0 | F30: =IF($D$9="D",Q30,IF($D$9="A",AB30,IF($D$9="B",AM30,IF($D$9="C",AX30,Q30)))) -> 0 | H30: =IF($D$9="D",S30,IF($D$9="A",AD30,IF($D$9="B",AO30,IF($D$9="C",AZ30,S30)))) -> 1 | I30: =IF($D$9="D",T30,IF($D$9="A",AE30,IF($D$9="B",AP30,IF($D$9="C",BA30,T30)))) -> 3 | K30: =IF($D$9="D",V30,IF($D$9="A",AG30,IF($D$9="B",AR30,IF($D$9="C",BC30,V30)))) -> 12 | M30: B3 | N30: 30 | O30: 1 | P30: 0 | Q30: 0 | S30: 1 | T30: 3 | V30: 12 | X30: B3 | Y30: 30 | Z30: 1 | AA30: 0 | AB30: 0 | AD30: 1 | AE30: 3 | AG30: 12 | AI30: B3 | AJ30: 30 | AK30: 1 | AL30: 0 | AM30: 0 | AO30: 1 | AP30: 3 | AR30: 12 | AT30: B3 | AU30: 30 | AV30: 1 | AW30: 0 | AX30: 0 | AZ30: 1 | BA30: 3 | BC30: 12
B31: C | C31: =IF($D$9="D",N31,IF($D$9="A",Y31,IF($D$9="B",AJ31,IF($D$9="C",AU31,N31)))) -> 40 | D31: =IF($D$9="D",O31,IF($D$9="A",Z31,IF($D$9="B",AK31,IF($D$9="C",AV31,O31)))) -> 1 | E31: =IF($D$9="D",P31,IF($D$9="A",AA31,IF($D$9="B",AL31,IF($D$9="C",AW31,P31)))) -> 0 | F31: =IF($D$9="D",Q31,IF($D$9="A",AB31,IF($D$9="B",AM31,IF($D$9="C",AX31,Q31)))) -> 0 | G31: =IF($D$9="D",R31,IF($D$9="A",AC31,IF($D$9="B",AN31,IF($D$9="C",AY31,R31)))) -> 0 | I31: =IF($D$9="D",T31,IF($D$9="A",AE31,IF($D$9="B",AP31,IF($D$9="C",BA31,T31)))) -> 1 | K31: =IF($D$9="D",V31,IF($D$9="A",AG31,IF($D$9="B",AR31,IF($D$9="C",BC31,V31)))) -> 40 | M31: C | N31: 40 | O31: 1 | P31: 0 | Q31: 0 | R31: 0 | T31: 1 | V31: 40 | X31: C | Y31: 40 | Z31: 1 | AA31: 0 | AB31: 0 | AC31: 0 | AE31: 1 | AG31: 40 | AI31: C | AJ31: 40 | AK31: 1 | AL31: 0 | AM31: 0 | AN31: 0 | AP31: 1 | AR31: 40 | AT31: C | AU31: 40 | AV31: 1 | AW31: 0 | AX31: 0 | AY31: 0 | BA31: 1 | BC31: 40
B32: total | C32: =SUM(C27:C31) -> 170 | M32: total | N32: =SUM(N27:N31) -> 170 | X32: total | Y32: =SUM(Y27:Y31) -> 170 | AI32: total | AJ32: =SUM(AJ27:AJ31) -> 170 | AT32: total | AU32: =SUM(AU27:AU31) -> 170
B34: period 2 | M34: period 2 | X34: period 2 | AI34: period 2 | AT34: period 2
B35: A | C35: =IF($D$9="D",N35,IF($D$9="A",Y35,IF($D$9="B",AJ35,IF($D$9="C",AU35,N35)))) -> 40 | E35: =IF($D$9="D",P35,IF($D$9="A",AA35,IF($D$9="B",AL35,IF($D$9="C",AW35,P35)))) -> 0.5 | F35: =IF($D$9="D",Q35,IF($D$9="A",AB35,IF($D$9="B",AM35,IF($D$9="C",AX35,Q35)))) -> 0.5 | G35: =IF($D$9="D",R35,IF($D$9="A",AC35,IF($D$9="B",AN35,IF($D$9="C",AY35,R35)))) -> 0.5 | H35: =IF($D$9="D",S35,IF($D$9="A",AD35,IF($D$9="B",AO35,IF($D$9="C",AZ35,S35)))) -> 0 | I35: =IF($D$9="D",T35,IF($D$9="A",AE35,IF($D$9="B",AP35,IF($D$9="C",BA35,T35)))) -> 5 | K35: =IF($D$9="D",V35,IF($D$9="A",AG35,IF($D$9="B",AR35,IF($D$9="C",BC35,V35)))) -> 10 | M35: A | N35: 40 | P35: 0.5 | Q35: 0.5 | R35: 0.5 | S35: 0 | T35: 5 | V35: 10 | X35: A | Y35: 40 | AA35: 0.5 | AB35: 0.5 | AC35: 0.5 | AD35: 0 | AE35: 5 | AG35: 10 | AI35: A | AJ35: 40 | AL35: 0.5 | AM35: 0.5 | AN35: 0.5 | AO35: 0 | AP35: 5 | AR35: 10 | AT35: A | AU35: 40 | AW35: 0.5 | AX35: 0.5 | AY35: 0.5 | AZ35: 0 | BA35: 5 | BC35: 10
B36: B1 | C36: =IF($D$9="D",N36,IF($D$9="A",Y36,IF($D$9="B",AJ36,IF($D$9="C",AU36,N36)))) -> 30 | D36: =IF($D$9="D",O36,IF($D$9="A",Z36,IF($D$9="B",AK36,IF($D$9="C",AV36,O36)))) -> 1 | F36: =IF($D$9="D",Q36,IF($D$9="A",AB36,IF($D$9="B",AM36,IF($D$9="C",AX36,Q36)))) -> 0 | G36: =IF($D$9="D",R36,IF($D$9="A",AC36,IF($D$9="B",AN36,IF($D$9="C",AY36,R36)))) -> 0 | H36: =IF($D$9="D",S36,IF($D$9="A",AD36,IF($D$9="B",AO36,IF($D$9="C",AZ36,S36)))) -> 1 | I36: =IF($D$9="D",T36,IF($D$9="A",AE36,IF($D$9="B",AP36,IF($D$9="C",BA36,T36)))) -> 4.5 | K36: =IF($D$9="D",V36,IF($D$9="A",AG36,IF($D$9="B",AR36,IF($D$9="C",BC36,V36)))) -> 12 | M36: B1 | N36: 30 | O36: 1 | Q36: 0 | R36: 0 | S36: 1 | T36: 4.5 | V36: 12 | X36: B1 | Y36: 30 | Z36: 1 | AB36: 0 | AC36: 0 | AD36: 1 | AE36: 3 | AG36: 12 | AI36: B1 | AJ36: 30 | AK36: 1 | AM36: 0 | AN36: 0 | AO36: 1 | AP36: 4.5 | AR36: 12 | AT36: B1 | AU36: 30 | AV36: 1 | AX36: 0 | AY36: 0 | AZ36: 1 | BA36: 4.5 | BC36: 12
B37: B2 | C37: =IF($D$9="D",N37,IF($D$9="A",Y37,IF($D$9="B",AJ37,IF($D$9="C",AU37,N37)))) -> 30 | D37: =IF($D$9="D",O37,IF($D$9="A",Z37,IF($D$9="B",AK37,IF($D$9="C",AV37,O37)))) -> 1 | E37: =IF($D$9="D",P37,IF($D$9="A",AA37,IF($D$9="B",AL37,IF($D$9="C",AW37,P37)))) -> 0 | G37: =IF($D$9="D",R37,IF($D$9="A",AC37,IF($D$9="B",AN37,IF($D$9="C",AY37,R37)))) -> 0 | H37: =IF($D$9="D",S37,IF($D$9="A",AD37,IF($D$9="B",AO37,IF($D$9="C",AZ37,S37)))) -> 0 | I37: =IF($D$9="D",T37,IF($D$9="A",AE37,IF($D$9="B",AP37,IF($D$9="C",BA37,T37)))) -> 3 | K37: =IF($D$9="D",V37,IF($D$9="A",AG37,IF($D$9="B",AR37,IF($D$9="C",BC37,V37)))) -> 12 | M37: B2 | N37: 30 | O37: 1 | P37: 0 | R37: 0 | S37: 0 | T37: 3 | V37: 12 | X37: B2 | Y37: 30 | Z37: 1 | AA37: 0 | AC37: 0 | AD37: 0 | AE37: 3 | AG37: 12 | AI37: B2 | AJ37: 30 | AK37: 1 | AL37: 0 | AN37: 0 | AO37: 0 | AP37: 3 | AR37: 12 | AT37: B2 | AU37: 30 | AV37: 1 | AW37: 0 | AY37: 0 | AZ37: 0 | BA37: 3 | BC37: 12
B38: B3 | C38: =IF($D$9="D",N38,IF($D$9="A",Y38,IF($D$9="B",AJ38,IF($D$9="C",AU38,N38)))) -> 30 | D38: =IF($D$9="D",O38,IF($D$9="A",Z38,IF($D$9="B",AK38,IF($D$9="C",AV38,O38)))) -> 1 | E38: =IF($D$9="D",P38,IF($D$9="A",AA38,IF($D$9="B",AL38,IF($D$9="C",AW38,P38)))) -> 0 | F38: =IF($D$9="D",Q38,IF($D$9="A",AB38,IF($D$9="B",AM38,IF($D$9="C",AX38,Q38)))) -> 0 | H38: =IF($D$9="D",S38,IF($D$9="A",AD38,IF($D$9="B",AO38,IF($D$9="C",AZ38,S38)))) -> 0 | I38: =IF($D$9="D",T38,IF($D$9="A",AE38,IF($D$9="B",AP38,IF($D$9="C",BA38,T38)))) -> 3 | K38: =IF($D$9="D",V38,IF($D$9="A",AG38,IF($D$9="B",AR38,IF($D$9="C",BC38,V38)))) -> 12 | M38: B3 | N38: 30 | O38: 1 | P38: 0 | Q38: 0 | S38: 0 | T38: 3 | V38: 12 | X38: B3 | Y38: 30 | Z38: 1 | AA38: 0 | AB38: 0 | AD38: 0 | AE38: 3 | AG38: 12 | AI38: B3 | AJ38: 30 | AK38: 1 | AL38: 0 | AM38: 0 | AO38: 0 | AP38: 3 | AR38: 12 | AT38: B3 | AU38: 30 | AV38: 1 | AW38: 0 | AX38: 0 | AZ38: 0 | BA38: 3 | BC38: 12
B39: C | C39: =IF($D$9="D",N39,IF($D$9="A",Y39,IF($D$9="B",AJ39,IF($D$9="C",AU39,N39)))) -> 44 | D39: =IF($D$9="D",O39,IF($D$9="A",Z39,IF($D$9="B",AK39,IF($D$9="C",AV39,O39)))) -> 1 | E39: =IF($D$9="D",P39,IF($D$9="A",AA39,IF($D$9="B",AL39,IF($D$9="C",AW39,P39)))) -> 0 | F39: =IF($D$9="D",Q39,IF($D$9="A",AB39,IF($D$9="B",AM39,IF($D$9="C",AX39,Q39)))) -> 0 | G39: =IF($D$9="D",R39,IF($D$9="A",AC39,IF($D$9="B",AN39,IF($D$9="C",AY39,R39)))) -> 0 | I39: =IF($D$9="D",T39,IF($D$9="A",AE39,IF($D$9="B",AP39,IF($D$9="C",BA39,T39)))) -> 1 | K39: =IF($D$9="D",V39,IF($D$9="A",AG39,IF($D$9="B",AR39,IF($D$9="C",BC39,V39)))) -> 40 | M39: C | N39: 44 | O39: 1 | P39: 0 | Q39: 0 | R39: 0 | T39: 1 | V39: 40 | X39: C | Y39: 40 | Z39: 1 | AA39: 0 | AB39: 0 | AC39: 0 | AE39: 1 | AG39: 40 | AI39: C | AJ39: 44 | AK39: 1 | AL39: 0 | AM39: 0 | AN39: 0 | AP39: 1 | AR39: 40 | AT39: C | AU39: 44 | AV39: 1 | AW39: 0 | AX39: 0 | AY39: 0 | BA39: 1 | BC39: 40
B40: total | C40: =SUM(C35:C39) -> 174 | M40: total | N40: =SUM(N35:N39) -> 174 | X40: total | Y40: =SUM(Y35:Y39) -> 170 | AI40: total | AJ40: =SUM(AJ35:AJ39) -> 174 | AT40: total | AU40: =SUM(AU35:AU39) -> 174
B42: period 3 | M42: period 3 | X42: period 3 | AI42: period 3 | AT42: period 3
B43: A | C43: =IF($D$9="D",N43,IF($D$9="A",Y43,IF($D$9="B",AJ43,IF($D$9="C",AU43,N43)))) -> 40 | E43: =IF($D$9="D",P43,IF($D$9="A",AA43,IF($D$9="B",AL43,IF($D$9="C",AW43,P43)))) -> 0.5 | F43: =IF($D$9="D",Q43,IF($D$9="A",AB43,IF($D$9="B",AM43,IF($D$9="C",AX43,Q43)))) -> 0.5 | G43: =IF($D$9="D",R43,IF($D$9="A",AC43,IF($D$9="B",AN43,IF($D$9="C",AY43,R43)))) -> 0.5 | H43: =IF($D$9="D",S43,IF($D$9="A",AD43,IF($D$9="B",AO43,IF($D$9="C",AZ43,S43)))) -> 0 | I43: =IF($D$9="D",T43,IF($D$9="A",AE43,IF($D$9="B",AP43,IF($D$9="C",BA43,T43)))) -> 5 | K43: =IF($D$9="D",V43,IF($D$9="A",AG43,IF($D$9="B",AR43,IF($D$9="C",BC43,V43)))) -> 10 | M43: A | N43: 40 | P43: 0.5 | Q43: 0.5 | R43: 0.5 | S43: 0 | T43: 5 | V43: 10 | X43: A | Y43: 40 | AA43: 0.5 | AB43: 0.5 | AC43: 0.5 | AD43: 0 | AE43: 5 | AG43: 10 | AI43: A | AJ43: 40 | AL43: 0.5 | AM43: 0.5 | AN43: 0.5 | AO43: 0 | AP43: 5 | AR43: 10 | AT43: A | AU43: 40 | AW43: 0.5 | AX43: 0.5 | AY43: 0.5 | AZ43: 0 | BA43: 5 | BC43: 10
B44: B1 | C44: =IF($D$9="D",N44,IF($D$9="A",Y44,IF($D$9="B",AJ44,IF($D$9="C",AU44,N44)))) -> 30 | D44: =IF($D$9="D",O44,IF($D$9="A",Z44,IF($D$9="B",AK44,IF($D$9="C",AV44,O44)))) -> 1 | F44: =IF($D$9="D",Q44,IF($D$9="A",AB44,IF($D$9="B",AM44,IF($D$9="C",AX44,Q44)))) -> 0 | G44: =IF($D$9="D",R44,IF($D$9="A",AC44,IF($D$9="B",AN44,IF($D$9="C",AY44,R44)))) -> 0 | H44: =IF($D$9="D",S44,IF($D$9="A",AD44,IF($D$9="B",AO44,IF($D$9="C",AZ44,S44)))) -> 0 | I44: =IF($D$9="D",T44,IF($D$9="A",AE44,IF($D$9="B",AP44,IF($D$9="C",BA44,T44)))) -> 4.5 | K44: =IF($D$9="D",V44,IF($D$9="A",AG44,IF($D$9="B",AR44,IF($D$9="C",BC44,V44)))) -> 12 | M44: B1 | N44: 30 | O44: 1 | Q44: 0 | R44: 0 | S44: 0 | T44: 4.5 | V44: 12 | X44: B1 | Y44: 30 | Z44: 1 | AB44: 0 | AC44: 0 | AD44: 0 | AE44: 3 | AG44: 12 | AI44: B1 | AJ44: 30 | AK44: 1 | AM44: 0 | AN44: 0 | AO44: 0 | AP44: 4.5 | AR44: 12 | AT44: B1 | AU44: 30 | AV44: 1 | AX44: 0 | AY44: 0 | AZ44: 0 | BA44: 4.5 | BC44: 12
B45: B2 | C45: =IF($D$9="D",N45,IF($D$9="A",Y45,IF($D$9="B",AJ45,IF($D$9="C",AU45,N45)))) -> 30 | D45: =IF($D$9="D",O45,IF($D$9="A",Z45,IF($D$9="B",AK45,IF($D$9="C",AV45,O45)))) -> 1 | E45: =IF($D$9="D",P45,IF($D$9="A",AA45,IF($D$9="B",AL45,IF($D$9="C",AW45,P45)))) -> 0 | G45: =IF($D$9="D",R45,IF($D$9="A",AC45,IF($D$9="B",AN45,IF($D$9="C",AY45,R45)))) -> 0 | H45: =IF($D$9="D",S45,IF($D$9="A",AD45,IF($D$9="B",AO45,IF($D$9="C",AZ45,S45)))) -> 1 | I45: =IF($D$9="D",T45,IF($D$9="A",AE45,IF($D$9="B",AP45,IF($D$9="C",BA45,T45)))) -> 4.5 | K45: =IF($D$9="D",V45,IF($D$9="A",AG45,IF($D$9="B",AR45,IF($D$9="C",BC45,V45)))) -> 12 | M45: B2 | N45: 30 | O45: 1 | P45: 0 | R45: 0 | S45: 1 | T45: 4.5 | V45: 12 | X45: B2 | Y45: 30 | Z45: 1 | AA45: 0 | AC45: 0 | AD45: 1 | AE45: 3 | AG45: 12 | AI45: B2 | AJ45: 30 | AK45: 1 | AL45: 0 | AN45: 0 | AO45: 1 | AP45: 4.5 | AR45: 12 | AT45: B2 | AU45: 30 | AV45: 1 | AW45: 0 | AY45: 0 | AZ45: 1 | BA45: 4.5 | BC45: 12
...

Sheet first approach investment
C1: Firm B1, B2 and B3 produce the same commodity,
C2: but replace their machinery at different times every three years | N2: Correction for varying total labour input | S2: Uncorrected results | AF2: Correction for varying total labour input | AK2: Uncorrected results
P3: relative | Q3: relative | U3: relative | V3: relative | AH3: relative | AI3: relative | AM3: relative | AN3: relative
B4: period 1 | N4: result | O4: result | P4: exchange | Q4: result | S4: result | T4: result | U4: exchange | V4: result | AF4: result | AG4: result | AH4: exchange | AI4: result | AK4: result | AL4: result | AM4: exchange | AN4: result
C5: input | K5: relative | L5: numerator | N5: in price | O5: per unit | P5: value of | Q5: per unit | S5: in price | T5: per unit | U5: value of | V5: per unit | Y5: input | AE5: relative | AF5: in price | AG5: per unit | AH5: value of | AI5: per unit | AK5: in price | AL5: per unit | AM5: value of | AN5: per unit
B6: firm | C6: labour | D6: A | E6: B1 | F6: B2 | G6: B3 | H6: C | I6: output | K6: prices | L6: =OVERVIEW!K24 -> B | N6: =L6 -> B | O6: labour | P6: goods | Q6: labour | S6: =L6 -> B | T6: labour | U6: goods | V6: labour | X6: firm | Y6: labour | Z6: A | AA6: B | AB6: C | AC6: output | AE6: prices | AF6: =L6 -> B | AG6: labour | AH6: goods | AI6: labour | AK6: =L6 -> B | AL6: labour | AM6: goods | AN6: labour
B7: A | C7: =OVERVIEW!C27 -> 40 | E7: =OVERVIEW!E27 -> 0.5 | F7: =OVERVIEW!F27 -> 0.5 | G7: =OVERVIEW!G27 -> 0.5 | H7: =OVERVIEW!H27 -> 0 | I7: =OVERVIEW!I27 -> 6 | K7: =OVERVIEW!K27 -> 10 | L7: =K7/IF($L$6="A",$K$7,IF($L$6="B",$K$8,IF($L$6="C",$K$9,IF($L$6="D",$K$10,IF($L$6="E",$K$11,0))))) -> 0.83333333 | N7: =(I7*L7-E7*L8-F7*L9-G7*L10-H7*L11)*$C$20/$C$12 -> 3.5823529 | O7: =N7/C7 -> 0.089558824 | P7: =L7/$N$12 -> 0.088819227 | Q7: =O7/$O$12 -> 1.6227273 | X7: A | Y7: =C7 -> 40 | AA7: =E7+F7+G7 -> 1.5 | AB7: =H7 -> 0 | AC7: =I7 -> 6 | AE7: =L7 -> 0.83333333 | AF7: =N7 -> 3.5823529 | AG7: =O7 -> 0.089558824 | AH7: =P7 -> 0.088819227 | AI7: =Q7 -> 1.6227273
B8: B1 | C8: =OVERVIEW!C28 -> 30 | D8: =OVERVIEW!D28 -> 1 | F8: =OVERVIEW!F28 -> 0 | G8: =OVERVIEW!G28 -> 0 | H8: =OVERVIEW!H28 -> 0 | I8: =OVERVIEW!I28 -> 3 | K8: =OVERVIEW!K28 -> 12 | L8: =K8/IF($L$6="A",$K$7,IF($L$6="B",$K$8,IF($L$6="C",$K$9,IF($L$6="D",$K$10,IF($L$6="E",$K$11,0))))) -> 1 | N8: =(I8*L8-D8*L7-F8*L9-G8*L10-H8*L11)*$C$20/$C$12 -> 2.2176471 | O8: =N8/C8 -> 0.073921569 | P8: =L8/$N$12 -> 0.10658307 | Q8: =O8/$O$12 -> 1.3393939 | X8: B | Y8: =C8+C9+C10 -> 90 | Z8: =D8+D9+D10 -> 3 | AB8: =H8+H9+H10 -> 1 | AC8: =I8+I9+I10 -> 9 | AE8: =(L8*I8+L9*I9+L10*I10)/(I8+I9+I10) -> 1 | AF8: =N8+N9+N10 -> 3.2411765 | AG8: =AF8/Y8 -> 0.036013072 | AH8: =((I8*L8+I9*L9+I10*L10)/(I8+I9+I10))/AF10 -> 0.10658307 | AI8: =AG8/AG10 -> 0.65252525
